BEGIN:VCALENDAR
VERSION:2.0
PRODID:icalendar-ruby
CALSCALE:GREGORIAN
METHOD:PUBLISH
BEGIN:VEVENT
DTSTAMP:20260419T132058Z
UID:5-1544496@farmersvillefumc.com
DTSTART:20260712T180000Z
DTEND:20260712T190000Z
CLASS:PUBLIC
CREATED:20260419T011052
DESCRIPTION:Sunday Worship
LAST-MODIFIED:20260419T011052
LOCATION:
SUMMARY:Sunday Worship
URL;VALUE=URI:https://www.farmersvillefumc.com/events/sunday-worship/2026-0
 7-12
END:VEVENT
END:VCALENDAR
