BEGIN:VCALENDAR
VERSION:2.0
PRODID:icalendar-ruby
CALSCALE:GREGORIAN
METHOD:PUBLISH
BEGIN:VEVENT
DTSTAMP:20260423T130635Z
UID:5-1553972@farmersvillefumc.com
DTSTART:20260802T180000Z
DTEND:20260802T190000Z
CLASS:PUBLIC
CREATED:20260423T054927
DESCRIPTION:Sunday Worship
LAST-MODIFIED:20260423T054927
LOCATION:
SUMMARY:Sunday Worship
URL;VALUE=URI:https://www.farmersvillefumc.com/events/sunday-worship/2026-0
 8-02
END:VEVENT
END:VCALENDAR
