BEGIN:VCALENDAR
VERSION:2.0
PRODID:icalendar-ruby
CALSCALE:GREGORIAN
METHOD:PUBLISH
BEGIN:VEVENT
DTSTAMP:20260423T161906Z
UID:5-1554353@farmersvillefumc.com
DTSTART:20260816T180000Z
DTEND:20260816T190000Z
CLASS:PUBLIC
CREATED:20260423T084146
DESCRIPTION:Sunday Worship
LAST-MODIFIED:20260423T084146
LOCATION:
SUMMARY:Sunday Worship
URL;VALUE=URI:https://www.farmersvillefumc.com/events/sunday-worship/2026-0
 8-16
END:VEVENT
END:VCALENDAR
