BEGIN:VCALENDAR
VERSION:2.0
PRODID:icalendar-ruby
CALSCALE:GREGORIAN
METHOD:PUBLISH
BEGIN:VEVENT
DTSTAMP:20260423T210934Z
UID:5-1554735@farmersvillefumc.com
DTSTART:20260906T180000Z
DTEND:20260906T190000Z
CLASS:PUBLIC
CREATED:20260423T113851
DESCRIPTION:Sunday Worship
LAST-MODIFIED:20260423T113851
LOCATION:
SUMMARY:Sunday Worship
URL;VALUE=URI:https://www.farmersvillefumc.com/events/sunday-worship/2026-0
 9-06
END:VEVENT
END:VCALENDAR
