BEGIN:VCALENDAR
VERSION:2.0
PRODID:icalendar-ruby
CALSCALE:GREGORIAN
METHOD:PUBLISH
BEGIN:VEVENT
DTSTAMP:20260424T003144Z
UID:5-1555495@farmersvillefumc.com
DTSTART:20260920T180000Z
DTEND:20260920T190000Z
CLASS:PUBLIC
CREATED:20260423T172615
DESCRIPTION:Sunday Worship
LAST-MODIFIED:20260423T172615
LOCATION:
SUMMARY:Sunday Worship
URL;VALUE=URI:https://www.farmersvillefumc.com/events/sunday-worship/2026-0
 9-20
END:VEVENT
END:VCALENDAR
